BEGIN:VCALENDAR
VERSION:2.0
PRODID:-//Harmony Gastronomy Academy - ECPv6.15.20//NONSGML v1.0//EN
CALSCALE:GREGORIAN
METHOD:PUBLISH
X-WR-CALNAME:Harmony Gastronomy Academy
X-ORIGINAL-URL:https://harmonygastronomy.com
X-WR-CALDESC:Harmony Gastronomy Academy için etkinlikler
REFRESH-INTERVAL;VALUE=DURATION:PT1H
X-Robots-Tag:noindex
X-PUBLISHED-TTL:PT1H
BEGIN:VTIMEZONE
TZID:Europe/Istanbul
BEGIN:STANDARD
TZOFFSETFROM:+0300
TZOFFSETTO:+0300
TZNAME:+03
DTSTART:20240101T000000
END:STANDARD
END:VTIMEZONE
BEGIN:VEVENT
DTSTART;TZID=Europe/Istanbul:20250417T100000
DTEND;TZID=Europe/Istanbul:20250418T160000
DTSTAMP:20260423T235150
CREATED:20260302T090330Z
LAST-MODIFIED:20260302T090330Z
UID:8129-1744884000-1744992000@harmonygastronomy.com
SUMMARY:Çikolata Uzmanlık Eğitimi - 2 gün (17-18 Nisan 2025)
DESCRIPTION:Çikolata Uzmanlık Eğitimi – 2 gün (17-18 Nisan 2025)\n  \nÇikolata Uzmanlık Eğitimi: Lezzetin ve Sanatın Buluştuğu Yer \nÇikolata\, tatlı dünyasının en sevilen malzemelerinden biridir ve onu ustalıkla işlemek\, özel bir eğitim gerektirir. Çikolata uzmanlık eğitimi\, çikolatanın yapımı\, işlenmesi ve sunumu konularında derinlemesine bilgi ve beceri kazandırmayı amaçlar. \nÇikolata uzmanlık eğitimi\, aşağıdaki başlıkları kapsar \n\nÇikolatanın Tarihi ve Kültürel Önemi: Eğitimde\, çikolatanın tarihi\, farklı kültürlerdeki yeri ve kullanım şekilleri ele alınır. Bu bilgi\, çikolata yapımında daha derin bir anlayış sağlar.\nÇikolata Çeşitleri ve Malzeme Seçimi: Öğrenciler\, farklı çikolata türlerini (bitter\, sütlü\, beyaz çikolata) tanır ve hangi malzemelerin nasıl kullanılması gerektiğini öğrenir.\nTemel Teknikler: Çikolata temperleme\, kalıplama\, ganaj hazırlama gibi temel teknikler öğretilir. Bu beceriler\, çikolatanın hem lezzetini hem de görünümünü artırır.\n\nEğitim İçeriği\nTeknik bilgilerine yer vererek çikolatayı Artizan yöntemler ile yapacağımız eğitimimizin işlem basamakları aşağıdaki gibidir. \n1.⁠ ⁠GÜN\n\nKaramel dolgu yapımı\nFıstıklı dolgu yapımı\nFrambuazlı dolgu yapımı\nÇikolata temperleme teknikleri anlatımı\nKuruyemişli tablet çikolata yapımı\nMendiant çikolata yapımı\nCocostar çikolata yapımı (demo)\n\n2.⁠ ⁠Gün\n\nDolgulu Artizan çikolata yapma ve teknikleri\nRenkli Frambuaz dolgulu Artizan çikolata yapımı\nMetalik görünümlü Karamel dolgulu Artizan çikolata yapımı\nRenkli fıstık dolgulu Artizan çikolata yapımı
URL:https://harmonygastronomy.com/etkinlik/cikolata-uzmanlik-egitimi-2-gun-17-18-nisan-2025/
LOCATION:Harmony Gastronomy\, Ataşehir Finanskent mh. Finans cd. Sarphan Finansbank sit. F Blok Ümraniye\, İstanbul\, İstanbul\, 34760\, Turkey
CATEGORIES:Uzmanlık Eğitimleri
ATTACH;FMTTYPE=image/jpeg:https://harmonygastronomy.com/wp-content/uploads/2024/11/Cikolata-Uzmanlik-Egitimi-2-gun-17-18-Nisan-2025.jpg
ORGANIZER;CN="Harmony Gastronomy":MAILTO:info@harmonygastronomy.com
END:VEVENT
END:VCALENDAR