BEGIN:VCALENDAR
VERSION:2.0
PRODID:-//Harmony Gastronomy Academy - ECPv6.15.20//NONSGML v1.0//EN
CALSCALE:GREGORIAN
METHOD:PUBLISH
X-ORIGINAL-URL:https://harmonygastronomy.com
X-WR-CALDESC:Harmony Gastronomy Academy için etkinlikler
REFRESH-INTERVAL;VALUE=DURATION:PT1H
X-Robots-Tag:noindex
X-PUBLISHED-TTL:PT1H
BEGIN:VTIMEZONE
TZID:Europe/Istanbul
BEGIN:STANDARD
TZOFFSETFROM:+0300
TZOFFSETTO:+0300
TZNAME:+03
DTSTART:20230101T000000
END:STANDARD
END:VTIMEZONE
BEGIN:VEVENT
DTSTART;TZID=Europe/Istanbul:20241207T110000
DTEND;TZID=Europe/Istanbul:20241207T150000
DTSTAMP:20260423T114417
CREATED:20260302T090437Z
LAST-MODIFIED:20260302T090437Z
UID:7643-1733569200-1733583600@harmonygastronomy.com
SUMMARY:Ebeveyn ve Çocuk Pizza Atölyesi Workshop (7 Aralık 2024)
DESCRIPTION:Ebeveyn ve Çocuk Pizza Atölyesi Workshop (7 Aralık 2024)\n  \nEtkinlik İçeriği : Bu etkinlik ile minik şefler yeni bir tecrübe kazanacak\, eğlenecek ve eğlenirken de öğrenecekler. Ebeveyn ve Çocuk Pizza Atölyesi (Workshop) etkinliğimizin işlem basamakları aşağıdaki gibidir; \n\nPizza hamuru yapımı\,\nPizza sosu yapımı\,\nAmerikan stili tepsi pizza yapımı ve teknikleri\,\nPizza pişirme teknikleri\,\nEl yapımı limonata yapımı (demo) teknikleri.\n\n\n\n\nEğitim Kuralları\, Kayıt ve Ödeme Bilgileri \n\nAtölye öncesinde bilet kontrolü yapılmaktadır.\nAtölye mutfağı 12 kişiliktir. Her istasyonda 1 (bir) kişi çalışacak şekilde planlanmıştır.\nAtölyeler tam donanımlı profesyonel aşçılık sınıfında gerçekleşmektedir.\nYapılan ürünler için saklama kaplarınızı getirerek yanınızda götürebilirsiniz.\nAlınan dersin iptali ve ders değişikliği yapılamamaktadır.\nHarmony Gastronomy gerekli gördüğü ya da minimum katılımcı sayısına ulaşılmadığı takdirde\, katılımcıların ödemiş olduğu etkinlik ücretini iade ederek organizasyonu iptal etmek hakkını saklı tutar.
URL:https://harmonygastronomy.com/etkinlik/ebeveyn-ve-cocuk-pizza-atolyesi-workshop-7-aralik-2024/
LOCATION:Harmony Gastronomy\, Ataşehir Finanskent mh. Finans cd. Sarphan Finansbank sit. F Blok Ümraniye\, İstanbul\, İstanbul\, 34760\, Turkey
CATEGORIES:Workshop
ATTACH;FMTTYPE=image/jpeg:https://harmonygastronomy.com/wp-content/uploads/2024/10/Ebeveyn-ve-Cocuk-Pizza-Atolyesi-13-Ekim-Pazar.jpg
ORGANIZER;CN="Harmony Gastronomy":MAILTO:info@harmonygastronomy.com
END:VEVENT
END:VCALENDAR