BEGIN:VCALENDAR
VERSION:2.0
PRODID:-//Harmony Gastronomy Academy - ECPv6.15.20//NONSGML v1.0//EN
CALSCALE:GREGORIAN
METHOD:PUBLISH
X-WR-CALNAME:Harmony Gastronomy Academy
X-ORIGINAL-URL:https://harmonygastronomy.com
X-WR-CALDESC:Harmony Gastronomy Academy için etkinlikler
REFRESH-INTERVAL;VALUE=DURATION:PT1H
X-Robots-Tag:noindex
X-PUBLISHED-TTL:PT1H
BEGIN:VTIMEZONE
TZID:Europe/Istanbul
BEGIN:STANDARD
TZOFFSETFROM:+0300
TZOFFSETTO:+0300
TZNAME:+03
DTSTART:20240101T000000
END:STANDARD
END:VTIMEZONE
BEGIN:VEVENT
DTSTART;TZID=Europe/Istanbul:20250126T160000
DTEND;TZID=Europe/Istanbul:20250126T200000
DTSTAMP:20260425T131408
CREATED:20260302T090412Z
LAST-MODIFIED:20260302T090412Z
UID:8037-1737907200-1737921600@harmonygastronomy.com
SUMMARY:Klasik İtalyan Mutfağı El Yapımı Makarna Atölyesi Workshop (26 Ocak 2025)
DESCRIPTION:Klasik İtalyan Mutfağı El Yapımı Makarna Atölyesi Workshop (26 Ocak 2025)\n  \nEtkinlik Adı                          : Klasik İtalyan Mutfağı El Yapımı Makarna Workshop  \nEtkinlik Tarihi                        : 26.01.2025 Pazar \nEtkinlik Saati                         : 16:00-20:00 \nEtkinlik Ücreti                       : 2.500\,-TL (Kdv Dahil) \nEtkinlik İçeriği                       : Dünya mutfağı denildiğinde ilk akla geleb mutfaklardan biridir İtalyan mutfağı. Lezzetli yemekleri ve kalabalık sofralarıyla İtalyan mutfağında yemek yapmak bir törene dönüşür.Bu atölyenin işlem basamakları ve edinimleri aşağıdaki gibidir; \n\nEv yapımı makarna yapımı ve teknikleri\nKurutulmuş domates ve karidesli Tagliatelle\nİleri seviye pişirme teknikleri\,\nTiramisu (ikram)\nSunum teknikleri\n\nEtkinlik Kuralları        : \n\nAtölye öncesinde bilet kontrolü yapılmaktadır.\nAtölye mutfağı 8 kişiliktir. Her istasyonda 1 (bir) kişi çalışacak şekilde planlanmıştır.\nAtölyeler tam donanımlı profesyonel aşçılık ve pastacılık sınıfında gerçekleşmektedir.\nYapılan ürünler için saklama kaplarınızı getirerek yanınızda götürebilirsiniz.\nAlınan dersin iptali ve ders değişikliği yapılamamaktadır.\nHarmony Gastronomy gördüğü ya da minimum katılımcı sayısına ulaşılmadığı takdirde\, katılımcıların ödemiş olduğu etkinlik ücretini iade ederek organizasyonu iptal etmek hakkını saklı tutar.
URL:https://harmonygastronomy.com/etkinlik/klasik-italyan-mutfagi-el-yapimi-makarna-atolyesi-workshop-26-ocak-2025/
LOCATION:Harmony Gastronomy\, Ataşehir Finanskent mh. Finans cd. Sarphan Finansbank sit. F Blok Ümraniye\, İstanbul\, İstanbul\, 34760\, Turkey
CATEGORIES:Workshop
ATTACH;FMTTYPE=image/jpeg:https://harmonygastronomy.com/wp-content/uploads/2024/10/Klasik-Italyan-Mutfagi-El-Yapimi-Makarna-26-Ekim-2024.jpg
ORGANIZER;CN="Harmony Gastronomy":MAILTO:info@harmonygastronomy.com
END:VEVENT
END:VCALENDAR