BEGIN:VCALENDAR
VERSION:2.0
PRODID:-//Harmony Gastronomy Academy - ECPv6.15.20//NONSGML v1.0//EN
CALSCALE:GREGORIAN
METHOD:PUBLISH
X-ORIGINAL-URL:https://harmonygastronomy.com
X-WR-CALDESC:Harmony Gastronomy Academy için etkinlikler
REFRESH-INTERVAL;VALUE=DURATION:PT1H
X-Robots-Tag:noindex
X-PUBLISHED-TTL:PT1H
BEGIN:VTIMEZONE
TZID:Europe/Istanbul
BEGIN:STANDARD
TZOFFSETFROM:+0300
TZOFFSETTO:+0300
TZNAME:+03
DTSTART:20240101T000000
END:STANDARD
END:VTIMEZONE
BEGIN:VEVENT
DTSTART;TZID=Europe/Istanbul:20250221T180000
DTEND;TZID=Europe/Istanbul:20250221T220000
DTSTAMP:20260423T015517
CREATED:20260302T090404Z
LAST-MODIFIED:20260302T090404Z
UID:8100-1740160800-1740175200@harmonygastronomy.com
SUMMARY:Meksika Mutfağı Atölyesi-2 Atölyesi Workshop (21 Şubat 2025)
DESCRIPTION:Meksika Mutfağı Atölyesi-2 Atölyesi Workshop (21 Şubat 2025)\n  \nEtkinlik Adı                      : Meksika Mutfağı Atölyesi-2 \nEtkinlik Tarihi                       : 21.02.2025 Cuma \nEtkinlik Saati                         : 18:00 – 22:00 \nEtkinlik Ücreti                       : 2.850 TL (Kdv Dahil) \nEtkinlik İçeriği                       : Meksika Mutfağının en sevilen lezzetleri Harmony Gastronomy Academy’de. Bu workshop’un işlem basamakları ve edinimleri aşağıdaki gibidir: \n\nTortilla Çorbası yapımı\,\nTavuklu Nachos yapımı\,\nTaco Asado yapımı\,\nMeksika Fasülyesi Püresi yapımı\,\nGuacamole\, salsa\, Queso Fundedo sosları yapımı\,\nSunum teknikleri.\n\nEtkinlik Kuralları       : \n\nAtölye öncesinde bilet kontrolü yapılmaktadır.\nAtölye mutfağı 12 kişiliktir. Her istasyonda 1 (bir) kişi çalışacak şekilde planlanmıştır.\nAtölyeler tam donanımlı profesyonel aşçılık sınıfında gerçekleşmektedir.\nYapılan ürünler için saklama kaplarınızı getirerek yanınızda götürebilirsiniz.\nAlınan dersin iptali ve ders değişikliği yapılamamaktadır.\nHarmony Gastronomy Academy (HGA) gerekli gördüğü ya da minimum katılımcı sayısına ulaşılmadığı takdirde\, katılımcıların ödemiş olduğu etkinlik ücretini iade ederek organizasyonu iptal etmek hakkını saklı tutar.
URL:https://harmonygastronomy.com/etkinlik/meksika-mutfagi-atolyesi-2-atolyesi-workshop-21-subat-2025/
LOCATION:Harmony Gastronomy\, Ataşehir Finanskent mh. Finans cd. Sarphan Finansbank sit. F Blok Ümraniye\, İstanbul\, İstanbul\, 34760\, Turkey
CATEGORIES:Workshop
ORGANIZER;CN="Harmony Gastronomy":MAILTO:info@harmonygastronomy.com
END:VEVENT
END:VCALENDAR