BEGIN:VCALENDAR
VERSION:2.0
PRODID:-//Harmony Gastronomy Academy - ECPv6.15.20//NONSGML v1.0//EN
CALSCALE:GREGORIAN
METHOD:PUBLISH
X-ORIGINAL-URL:https://harmonygastronomy.com
X-WR-CALDESC:Harmony Gastronomy Academy için etkinlikler
REFRESH-INTERVAL;VALUE=DURATION:PT1H
X-Robots-Tag:noindex
X-PUBLISHED-TTL:PT1H
BEGIN:VTIMEZONE
TZID:Europe/Istanbul
BEGIN:STANDARD
TZOFFSETFROM:+0300
TZOFFSETTO:+0300
TZNAME:+03
DTSTART:20240101T000000
END:STANDARD
END:VTIMEZONE
BEGIN:VEVENT
DTSTART;TZID=Europe/Istanbul:20250309T110000
DTEND;TZID=Europe/Istanbul:20250309T150000
DTSTAMP:20260420T032051
CREATED:20260302T090342Z
LAST-MODIFIED:20260302T090342Z
UID:8166-1741518000-1741532400@harmonygastronomy.com
SUMMARY:Geleceğin Şefleri İtalyan Mutfağı Atölyesi Workshop (09 Mart 2025)
DESCRIPTION:Geleceğin Şefleri İtalyan Mutfağı Atölyesi Workshop (09 Mart 2025)\n  \nEtkinlik Adı: Geleceğin Şefleri İtalyan Mutfağı Atölyesi \nEtkinlik Tarihi: 09.03.2025 Pazar \nEtkinlik Saati:11:00 – 15:00\, \nEtkinlik Ücreti : 3.000 TL (Kdv Dahil)\, \nEtkinlik İçeriği: Etkinlik içeriği aşağıdaki gibidir. \n\nFocaccia yapımı ve teknikleri\nRisotto (Kremalı mantar risottosu) yapımı ve teknikleri\nPanna Cotta (Orman Meyve Soslu) yapımı ve teknikleri\n\n  \nEtkinlik Kuralları       : \n\nAtölye öncesinde bilet kontrolü yapılmaktadır.\nAtölye mutfağı 12 kişiliktir. Her istasyonda 1 (bir) kişi çalışacak şekilde planlanmıştır.\nAtölyeler tam donanımlı profesyonel aşçılık sınıfında gerçekleşmektedir.\nAtölye mutfağı 8 – 15  yaş katılımcı için uygundur.\nYapılan ürünler için saklama kaplarınızı getirerek yanınızda götürebilirsiniz.\nAlınan dersin iptali ve ders değişikliği yapılamamaktadır.\nHarmony Gastronomy Academy (HGA) gerekli gördüğü ya da minimum katılımcı sayısına ulaşılmadığı takdirde\, katılımcıların ödemiş olduğu etkinlik ücretini iade ederek organizasyonu iptal etmek hakkını saklı tutar.
URL:https://harmonygastronomy.com/etkinlik/gelecegin-sefleri-italyan-mutfagi-atolyesi-workshop-09-mart-2025/
LOCATION:Harmony Gastronomy\, Ataşehir Finanskent mh. Finans cd. Sarphan Finansbank sit. F Blok Ümraniye\, İstanbul\, İstanbul\, 34760\, Turkey
CATEGORIES:Workshop
ATTACH;FMTTYPE=image/jpeg:https://harmonygastronomy.com/wp-content/uploads/2024/11/Gelecegin-Sefleri-Italyan-Mutfagi.jpg
ORGANIZER;CN="Harmony Gastronomy":MAILTO:info@harmonygastronomy.com
END:VEVENT
END:VCALENDAR