BEGIN:VCALENDAR
VERSION:2.0
PRODID:-//Harmony Gastronomy Academy - ECPv6.15.20//NONSGML v1.0//EN
CALSCALE:GREGORIAN
METHOD:PUBLISH
X-WR-CALNAME:Harmony Gastronomy Academy
X-ORIGINAL-URL:https://harmonygastronomy.com
X-WR-CALDESC:Harmony Gastronomy Academy için etkinlikler
REFRESH-INTERVAL;VALUE=DURATION:PT1H
X-Robots-Tag:noindex
X-PUBLISHED-TTL:PT1H
BEGIN:VTIMEZONE
TZID:Europe/Istanbul
BEGIN:STANDARD
TZOFFSETFROM:+0300
TZOFFSETTO:+0300
TZNAME:+03
DTSTART:20240101T000000
END:STANDARD
END:VTIMEZONE
BEGIN:VEVENT
DTSTART;TZID=Europe/Istanbul:20250127T140000
DTEND;TZID=Europe/Istanbul:20250127T180000
DTSTAMP:20260425T182558
CREATED:20260302T090411Z
LAST-MODIFIED:20260302T090411Z
UID:8003-1737986400-1738000800@harmonygastronomy.com
SUMMARY:Geleceğin Şefleri 14-17 Yaş Atölyesi Workshop (27-31 Ocak 2025)
DESCRIPTION:Geleceğin Şefleri 14-17 Yaş Atölyesi Workshop (27-31 Ocak 2025)\n  \nEtkinlik Ücreti                            : 14.000 TL (Kdv Dahil) \nErken Kayıt İndirim Oranı      : %10 \nErken Kayıt İndirim Tutarı      :12.600 TL \nErken Kayıt Tarihi                     : 31 Aralık 2024 tarihine kadar \nEtkinlik İçeriği                           : Mutfakta iş sağlığı ve güvenlik önlemlerinden başlayarak teorik bilgilerin kazanılacağı\, bunun yanı sıra; Dünya ve Türk Mutfağına ait tatların uzman şefler eşliğinde yapılacağı\, 08-17 Yaş çocuklara özel 5 gün mutfak konseptli eğitimimiz başlıyor. \nBirinci Gün \n\nİş sağlığı ve güvenliği eğitimi\nHijyen eğitimi\nBıçak tutma teknikleri\nKesim ve pişirme teknikleri\nPancake yapımı ve teknikleri (Çikolotalı fındık kreması ile)\nFrench Tost yapımı ve teknikleri\n\nİkinci Gün \n\nPizza hamuru yapımı ve teknikleri\nPizza sosu ve iç harcın hazırlanması\nEl yapımı limonata\n\nÜçüncü Gün \n\nBrioche ekmeği yapımı ve teknikleri\nHamburger yapımı ve teknikleri (%100 el yapımı)\nEşlikçi soslar ve garnitür yapımı\n\nDördüncü Gün \n\nEtli noodle yapımı ve teknikleri\nCalifornia roll yapımı ve teknikleri\nPhiladelphia roll yapımı ve teknikleri\n\nBeşinci Gün \n\nSütlü çikolotalı cookie\nProfiterol (Çikolata sosu ile)\n\nEtkinlik Kuralları \n\n\n\nAtölye mutfağı 12 kişiliktir. Her istasyonda bir kişi çalışacak şekilde planlanmıştır.\nAtölyeler tam donanımlı profesyonel pastacılık ve aşçılık sınıfında gerçekleşmektedir.\nYapılan ürünler için saklama kaplarınızı getirerek yanınızda götürebilirsiniz.\nAlınan dersin iptali ve ders değişikliği yapılamamaktadır.\nHarmony gerekli gördüğü ya da minimum katılımcı sayısına ulaşılmadığı takdirde\, katılımcıların ödemiş olduğu etkinlik ücretini iade ederek organizasyonu iptal etmek hakkını saklı tutar.
URL:https://harmonygastronomy.com/etkinlik/gelecegin-sefleri-14-17-yas-atolyesi-workshop-27-31-ocak-2025-2/
LOCATION:Harmony Gastronomy\, Ataşehir Finanskent mh. Finans cd. Sarphan Finansbank sit. F Blok Ümraniye\, İstanbul\, İstanbul\, 34760\, Turkey
CATEGORIES:Konsept Programlar,Workshop
ATTACH;FMTTYPE=image/jpeg:https://harmonygastronomy.com/wp-content/uploads/2024/11/Gelecegin-Sefleri-14-17-Yas-Atolyesi-Workshop-1.jpg
ORGANIZER;CN="Harmony Gastronomy":MAILTO:info@harmonygastronomy.com
END:VEVENT
END:VCALENDAR