BEGIN:VCALENDAR
VERSION:2.0
PRODID:-//Harmony Gastronomy Academy - ECPv6.15.20//NONSGML v1.0//EN
CALSCALE:GREGORIAN
METHOD:PUBLISH
X-ORIGINAL-URL:https://harmonygastronomy.com
X-WR-CALDESC:Harmony Gastronomy Academy için etkinlikler
REFRESH-INTERVAL;VALUE=DURATION:PT1H
X-Robots-Tag:noindex
X-PUBLISHED-TTL:PT1H
BEGIN:VTIMEZONE
TZID:Europe/Istanbul
BEGIN:STANDARD
TZOFFSETFROM:+0300
TZOFFSETTO:+0300
TZNAME:+03
DTSTART:20250101T000000
END:STANDARD
END:VTIMEZONE
BEGIN:VEVENT
DTSTART;TZID=Europe/Istanbul:20260316T100000
DTEND;TZID=Europe/Istanbul:20260318T140000
DTSTAMP:20260421T185030
CREATED:20260302T090257Z
LAST-MODIFIED:20260304T111252Z
UID:9566-1773655200-1773842400@harmonygastronomy.com
SUMMARY:Geleceğin Şefler - 5 gün (16 Mart - 20 Mart 2026)
DESCRIPTION:Genç Şefler – 3 gün (16 Mart – 18 Mart 2026)\n  \nEtkinlik Adı           : GENÇ ŞEFLER \nEtkinlik Tarihi          : 16 Mart 2026 – 18 Mart 2026  (Pazartesi- Salı-Çarşamba) \nEtkinlik Saati           : Pazartesi 15:30- 19:30 / Salı ve Çarşamba 10:00 – 14:00 \nEtkinlik Ücreti         :   3.900 TL (Günlük Kdv Dahil) \n  10.500 TL (3 Günlük – 3.500 TL üzerinden Kdv dahil) \n  \nEtkinlik İçeriği         : Paket olan programa günlük katılım mevcuttur. \n\n16 Mart 2026 : Sandaviç ekmeği yapımı\, Hotdog ve Gorali Yapım Teknikleri\n17 Mart 2026 : Artizan Çikolata Yapımı\n18 Mart 2026: Makarna yapımı ve Çıtır Tavuk Yapımı\n\n  \nEtkinlik kuralları ve detay bilgiler için lütfen bizimle iletişime geçiniz. \nHarmony Gastronomy Academy (HGA)  \nFinanskent\, Sarphan Finanspark\, Finans Cd F Blok 34760 Batı Ataşehir /İstanbul www.harmonygastronomy.com       –          0530 788 75 33
URL:https://harmonygastronomy.com/etkinlik/gelecegin-sefleri-5-gun-16-mart-20-mart-2026-2-2/
LOCATION:Harmony Gastronomy\, Ataşehir Finanskent mh. Finans cd. Sarphan Finansbank sit. F Blok Ümraniye\, İstanbul\, İstanbul\, 34760\, Turkey
CATEGORIES:Konsept Programlar,Workshop
ATTACH;FMTTYPE=image/jpeg:https://harmonygastronomy.com/wp-content/uploads/2024/10/Cocuklar-ve-Gencler-Icin-Mutfak-Kampi.jpg
ORGANIZER;CN="Harmony Gastronomy":MAILTO:info@harmonygastronomy.com
END:VEVENT
BEGIN:VEVENT
DTSTART;TZID=Europe/Istanbul:20260316T140000
DTEND;TZID=Europe/Istanbul:20260318T180000
DTSTAMP:20260421T185030
CREATED:20260302T090257Z
LAST-MODIFIED:20260304T115215Z
UID:9558-1773669600-1773856800@harmonygastronomy.com
SUMMARY:Geleceğin Şefleri - 3 gün (16 Mart - 18 Mart 2026)
DESCRIPTION:Geleceğin Şefleri – 3 gün (16 Mart – 18 Mart 2026)\nEtkinlik Adı             : GELECEĞİN ŞEFLERİ   \nEtkinlik Tarihi          : 16 Mart 2026 – 18 Mart 2026    (Pazartesi- Salı-Çarşamba) \nEtkinlik Saati           : 10:00 – 14:00 \nEtkinlik Ücreti         :   3.900 TL (Günlük Kdv Dahil)  \n10.500 TL (3 Günlük – 3.500 TL üzerinden Kdv dahil) \nEtkinlik İçeriği         : Paket olan programa günlük katılım mevcuttur. \n\n16 Mart 2026 : Sütlü Çikolata Cookie ve Profiterol Yapımı\n17 Mart 2026 : Pizza ve Limonata Yapımı\n18 Mart 2026 : Hamburger Yapımı (Brioche ekmek yapımı\, köfte hazırlama\, eşlikçi sos yapımı)\n\n  \nEtkinlik kuralları ve detay bilgiler için lütfen bizimle iletişime geçiniz. \nHarmony Gastronomy Academy (HGA)  \nFinanskent\, Sarphan Finanspark\, Finans Cd F Blok 34760 Batı Ataşehir /İstanbul www.harmonygastronomy.com       –          0530 788 75 33
URL:https://harmonygastronomy.com/etkinlik/gelecegin-sefleri-3-gun-16-mart-18-mart-2026/
LOCATION:Harmony Gastronomy\, Ataşehir Finanskent mh. Finans cd. Sarphan Finansbank sit. F Blok Ümraniye\, İstanbul\, İstanbul\, 34760\, Turkey
CATEGORIES:Konsept Programlar,Workshop
ATTACH;FMTTYPE=image/jpeg:https://harmonygastronomy.com/wp-content/uploads/2026/03/Harmony-Gastronomy-Academy-Gelecegin-Sefleri-Dunya-Mutfagi-2025-1-1.jpg
ORGANIZER;CN="Harmony Gastronomy":MAILTO:info@harmonygastronomy.com
END:VEVENT
END:VCALENDAR