BEGIN:VCALENDAR
VERSION:2.0
PRODID:-//Harmony Gastronomy Academy - ECPv6.15.20//NONSGML v1.0//EN
CALSCALE:GREGORIAN
METHOD:PUBLISH
X-WR-CALNAME:Harmony Gastronomy Academy
X-ORIGINAL-URL:https://harmonygastronomy.com
X-WR-CALDESC:Harmony Gastronomy Academy için etkinlikler
REFRESH-INTERVAL;VALUE=DURATION:PT1H
X-Robots-Tag:noindex
X-PUBLISHED-TTL:PT1H
BEGIN:VTIMEZONE
TZID:Europe/Istanbul
BEGIN:STANDARD
TZOFFSETFROM:+0300
TZOFFSETTO:+0300
TZNAME:+03
DTSTART:20230101T000000
END:STANDARD
END:VTIMEZONE
BEGIN:VEVENT
DTSTART;TZID=Europe/Istanbul:20241204T180000
DTEND;TZID=Europe/Istanbul:20241204T220000
DTSTAMP:20260422T142121
CREATED:20260302T090437Z
LAST-MODIFIED:20260302T090437Z
UID:7640-1733335200-1733349600@harmonygastronomy.com
SUMMARY:Hamburger Eşlikçileri ve Soslar Atölyesi - Workshop (4 Aralık 2024)
DESCRIPTION:Hamburger Eşlikçileri ve Soslar Atölyesi Workshop (4 Aralık 2024)\nEtkinlik İçeriği:  19. yüzyılın ortalarında\, Almanya’nın Hamburg şehrinden bir tüccar\, ticaret amacı ile gittiği Orta Asya’da Tatar Bifteği’ni görüp Almanya’ya getirdi ve onu Hamburg Bifteği olarak sunmaya başladı. Daha sonraları bir aşçı bu eti kızartarak servise sundu ve ona ‘’Hamburg’a ait’’ anlamına gelen ‘’hamburger’’ adını verdi. Daha sonrasında bu lezzet tüm dünyada tanındı. Hamburger\, Eşlikçileri ve Soslar #1 Atölyesi (Workshop) etkinliğimizin işlem basamakları ve edinimleri aşağıdaki gibidir. \n\nBricohe ekmeği yapımı ve teknikleri (demo)\,\nHamburger köftesi yapımı ve teknikleri\,\nColeslaw yapımı ve teknikleri\,\nFrench fries yapımı ve teknikleri\,\nİleri seviye pişirme ve sunum teknikleri\,\n\nEğitim Kuralları\, Kayıt ve Ödeme Bilgileri \n\nAtölye öncesinde bilet kontrolü yapılmaktadır.\nAtölye mutfağı 12 kişiliktir. Her istasyonda 1 (bir) kişi çalışacak şekilde planlanmıştır.\nAtölyeler tam donanımlı profesyonel aşçılık sınıfında gerçekleşmektedir.\nYapılan ürünler için saklama kaplarınızı getirerek yanınızda götürebilirsiniz.\nAlınan dersin iptali ve ders değişikliği yapılamamaktadır.\nHarmony Gastronomy gerekli gördüğü ya da minimum katılımcı sayısına ulaşılmadığı takdirde\, katılımcıların ödemiş olduğu etkinlik ücretini iade ederek organizasyonu iptal etmek hakkını saklı tutar.
URL:https://harmonygastronomy.com/etkinlik/hamburger-eslikcileri-ve-soslar-atolyesi-workshop-4-aralik-2024/
LOCATION:Harmony Gastronomy\, Ataşehir Finanskent mh. Finans cd. Sarphan Finansbank sit. F Blok Ümraniye\, İstanbul\, İstanbul\, 34760\, Turkey
CATEGORIES:Workshop
ATTACH;FMTTYPE=image/jpeg:https://harmonygastronomy.com/wp-content/uploads/2024/10/Hamburger-Eslikcileri-ve-Soslar-Atolyesi-20-Ekim-2024.jpg
ORGANIZER;CN="Harmony Gastronomy":MAILTO:info@harmonygastronomy.com
END:VEVENT
END:VCALENDAR