BEGIN:VCALENDAR
VERSION:2.0
PRODID:-//Harmony Gastronomy Academy - ECPv6.15.20//NONSGML v1.0//EN
CALSCALE:GREGORIAN
METHOD:PUBLISH
X-ORIGINAL-URL:https://harmonygastronomy.com
X-WR-CALDESC:Harmony Gastronomy Academy için etkinlikler
REFRESH-INTERVAL;VALUE=DURATION:PT1H
X-Robots-Tag:noindex
X-PUBLISHED-TTL:PT1H
BEGIN:VTIMEZONE
TZID:Europe/Istanbul
BEGIN:STANDARD
TZOFFSETFROM:+0300
TZOFFSETTO:+0300
TZNAME:+03
DTSTART:20230101T000000
END:STANDARD
END:VTIMEZONE
BEGIN:VEVENT
DTSTART;TZID=Europe/Istanbul:20241130T110000
DTEND;TZID=Europe/Istanbul:20241130T150000
DTSTAMP:20260422T211824
CREATED:20260302T090439Z
LAST-MODIFIED:20260302T090439Z
UID:7031-1732964400-1732978800@harmonygastronomy.com
SUMMARY:Kiş Çeşitleri ve Tart Yapımı Atölyesi (30 Kasım 2024)
DESCRIPTION:Kiş Çeşitleri ve Tart Yapımı Atölyesi (30 Kasım 2024) \nEtkinlik İçeriği : Bu etkinliğimizde fıransız mutfağının sevilen lezzetlerin  orijinal adı ‘’ quiche ‘’  olan kiş ve tart hamuru yapımı ve en bilinen ıspanaklı kiş ve son dönemlerin en popüleri olan limon merengli tartın yapımını öğreneceğiz. Etkinliğin işlem ve basamakları aşağıdaki gibidir. \n\nIspanaklı Kiş ve tekniği\nElmalı Pie ve tekniği\,\nLimonlu Mereng Tart ve tekniği\,\nKiş hamuru ve tart hamuru yapım ve tekniği\,\nSunum teknikleri.\n\nEğitim Kuralları\, Kayıt ve Ödeme Bilgileri \n\nAtölye öncesinde bilet kontrolü yapılmaktadır.\nAtölye mutfağı 8 kişiliktir. Her istasyonda bir ebeveyn bir çocuk çalışacak şekilde planlanmıştır.\nAtölyeler tam donanımlı profesyonel pastacılık sınıfında gerçekleşmektedir.\nYapılan ürünler için saklama kaplarınızı getirerek yanınızda götürebilirsiniz.\nAlınan dersin iptali ve ders değişikliği yapılamamaktadır.\nHarmony Gastronomy gerekli gördüğü ya da minimum katılımcı sayısına ulaşılmadığı takdirde\, katılımcıların ödemiş olduğu etkinlik ücretini iade ederek organizasyonu iptal etmek hakkını saklı tutar.
URL:https://harmonygastronomy.com/etkinlik/kis-cesitleri-ve-tart-yapimi-atolyesi-30-kasim-2024/
LOCATION:Harmony Gastronomy\, Ataşehir Finanskent mh. Finans cd. Sarphan Finansbank sit. F Blok Ümraniye\, İstanbul\, İstanbul\, 34760\, Turkey
CATEGORIES:Workshop
ATTACH;FMTTYPE=image/jpeg:https://harmonygastronomy.com/wp-content/uploads/2024/10/Kis-Cesitleri-ve-Tart-Yapimi-Atolyesi-27-Ekim-2024.jpg
ORGANIZER;CN="Harmony Gastronomy":MAILTO:info@harmonygastronomy.com
END:VEVENT
BEGIN:VEVENT
DTSTART;TZID=Europe/Istanbul:20241130T170000
DTEND;TZID=Europe/Istanbul:20241130T210000
DTSTAMP:20260422T211824
CREATED:20260302T090439Z
LAST-MODIFIED:20260302T090439Z
UID:7033-1732986000-1733000400@harmonygastronomy.com
SUMMARY:Dünya Mutfağı Tapas Atölyesi (30 Kasım 2024)
DESCRIPTION:Dünya Mutfağı Tapas Atölyesi (30 Kasım 2024) \nEtkinlik İçeriği : İspanya mutfağına özgü meze\, aperatif ve atıştırmalıkları bir tabakta buluşturan lezzetin adı olan tapas; akşam yemeğine kadar bekleyemeyenlerin hayır diyemeyeceği lezzetleri bizlere getiriyor. Damakta flamenko etkisi yaratacak lezzetli atıştırmalıkların yapımını öğreneceğiniz bu atölye ile artık ara öğünleri atlamakta zorlanacaksınız. Bu atölyenin işlem basamakları ve edinimleri aşağıdaki gibidir. \n\nÇıtır ekmek üzerinde avokado ezmesi ile kuyruklu karides yapımı ve teknikleri\,\nÇıtır ekmek üzerinde zeytin tepenade yapımı ve teknikleri\,\nSusamlı\, çörekotlu ve fıstıklı aranchini peynir topları yapımı ve teknikleri\,\nAcı chili biberi marmelatı yapımı ve teknikleri\,\nKırmızı soğan marmelatı yapımı ve teknikleri\,\nArrosticini şişler yapımı ve teknikleri\,\nMidite köfte yapımı ve teknikleri\,\nİleri seviye pişirme teknikleri\,\nSunum teknikleri.\n\nEğitim Kuralları\, Kayıt ve Ödeme Bilgileri \n\nAtölye öncesinde bilet kontrolü yapılmaktadır.\nAtölye mutfağı 12 kişiliktir. Her istasyonda 1(bir) kişi çalışacak şekilde planlanmıştır.\nAtölyeler tam donanımlı profesyonel aşçılık sınıfında gerçekleşmektedir.\nYapılan ürünler için saklama kaplarınızı getirerek yanınızda götürebilirsiniz.\nAlınan dersin iptali ve ders değişikliği yapılamamaktadır.\nHarmony Gastronomy gerekli gördüğü ya da minimum katılımcı sayısına ulaşılmadığı takdirde\, katılımcıların ödemiş olduğu etkinlik ücretini iade ederek organizasyonu iptal etmek hakkını saklı tutar.
URL:https://harmonygastronomy.com/etkinlik/dunya-mutfagi-tapas-atolyesi-30-kasim-2024/
LOCATION:Harmony Gastronomy\, Ataşehir Finanskent mh. Finans cd. Sarphan Finansbank sit. F Blok Ümraniye\, İstanbul\, İstanbul\, 34760\, Turkey
CATEGORIES:Workshop
ATTACH;FMTTYPE=image/jpeg:https://harmonygastronomy.com/wp-content/uploads/2024/10/Dunya-Mutfagi-Tapas-Atolyesi-19-Ekim-2024.jpg
ORGANIZER;CN="Harmony Gastronomy":MAILTO:info@harmonygastronomy.com
END:VEVENT
END:VCALENDAR