BEGIN:VCALENDAR
VERSION:2.0
PRODID:-//Harmony Gastronomy Academy - ECPv6.15.20//NONSGML v1.0//EN
CALSCALE:GREGORIAN
METHOD:PUBLISH
X-WR-CALNAME:Harmony Gastronomy Academy
X-ORIGINAL-URL:https://harmonygastronomy.com
X-WR-CALDESC:Harmony Gastronomy Academy için etkinlikler
REFRESH-INTERVAL;VALUE=DURATION:PT1H
X-Robots-Tag:noindex
X-PUBLISHED-TTL:PT1H
BEGIN:VTIMEZONE
TZID:Europe/Istanbul
BEGIN:STANDARD
TZOFFSETFROM:+0300
TZOFFSETTO:+0300
TZNAME:+03
DTSTART:20230101T000000
END:STANDARD
END:VTIMEZONE
BEGIN:VEVENT
DTSTART;TZID=Europe/Istanbul:20241128T100000
DTEND;TZID=Europe/Istanbul:20241129T160000
DTSTAMP:20260422T231021
CREATED:20260302T090440Z
LAST-MODIFIED:20260302T090440Z
UID:7004-1732788000-1732896000@harmonygastronomy.com
SUMMARY:Makarna Uzmanlık Eğitimi (28-29 Kasım 2024)
DESCRIPTION:Makarna Uzmanlık Eğitimi (28-29 Kasım 2024) \nEtkinlik İçeriği  \nBu eğitimle beraber gerek kendi mutfağınızda muhteşem İtalyan makarnaları hazırlamak\, gerekse işyeriniz için profesyonel seviyede 8 çeşit makarna\, 9 farklı çeşit sos\, çeşit makarna dolgusu ve bir renkli makarna hamuru yapımı ve teknikleri öğrenilecektir. \n\nGÜN\n\n\nTaze Makarna Hamuru Yapımı Ve Teknikleri\nFettuccine Alfredo Yapımı Ve Teknikleri\nSpagetti Al Gamberi Yapımı Ve Teknikleri\n-Demo- Lasagna Ala Ragu Bolognese Yapımı Ve Teknikleri\nPapardelle Al Pomodoro Yapımı Ve Teknikleri (Domates)\n\n\nGÜN\n\n\nTaze Makarna Hamuru Yapımı Ve Teknikleri\nIspanak Dolgulu Tortellini Yapımı Ve Teknikleri\nQuattro Formaggi Dolgulu Ravioli Yapımı Ve Teknikleri\nFarfelle Verdura Yapımı Ve Teknikleri\n-Demo- Gnocchi Di Costine Yapımı Ve Teknikleri\n\nEğitim Kuralları\, Kayıt ve Ödeme Bilgileri \n\nToplam katılımcı sayısı 8 (sekiz) kişidir.\nEğitimi 2 gün sürecektir. Her gün 6 saat toplamda 12 saatlik bir eğitim olacaktır.\nDemo olan ürünler şef tarafından hazırlanacaktır.\nHer istasyonda bir kişi çalışacak şekilde planlanmıştır.\nEğitimler tam donanımlı profesyonel aşçılık sınıfında gerçekleşmektedir.\nYapılan ürünler için saklama kaplarınızı getirerek yanınızda götürebilirsiniz.\nAlınan dersin iptali ve ders değişikliği yapılamamaktadır.\nHarmony Gastronomy Academy gerekli gördüğü ya da minimum katılımcı sayısına ulaşılmadığı takdirde\, katılımcıların ödemiş olduğu etkinlik ücretini iade ederek organizasyonu iptal etmek hakkını saklı tutar.
URL:https://harmonygastronomy.com/etkinlik/makarna-uzmanlik-egitimi-28-29-kasim-2024/
LOCATION:Harmony Gastronomy\, Ataşehir Finanskent mh. Finans cd. Sarphan Finansbank sit. F Blok Ümraniye\, İstanbul\, İstanbul\, 34760\, Turkey
CATEGORIES:Uzmanlık Eğitimleri
ATTACH;FMTTYPE=image/jpeg:https://harmonygastronomy.com/wp-content/uploads/2024/10/Makarna-Uzmanlik-Egitimi-31-Ekim-1-Kasim-2024.jpg
ORGANIZER;CN="Harmony Gastronomy":MAILTO:info@harmonygastronomy.com
END:VEVENT
END:VCALENDAR