BEGIN:VCALENDAR
VERSION:2.0
PRODID:-//Harmony Gastronomy Academy - ECPv6.15.20//NONSGML v1.0//EN
CALSCALE:GREGORIAN
METHOD:PUBLISH
X-ORIGINAL-URL:https://harmonygastronomy.com
X-WR-CALDESC:Harmony Gastronomy Academy için etkinlikler
REFRESH-INTERVAL;VALUE=DURATION:PT1H
X-Robots-Tag:noindex
X-PUBLISHED-TTL:PT1H
BEGIN:VTIMEZONE
TZID:Europe/Istanbul
BEGIN:STANDARD
TZOFFSETFROM:+0300
TZOFFSETTO:+0300
TZNAME:+03
DTSTART:20230101T000000
END:STANDARD
END:VTIMEZONE
BEGIN:VEVENT
DTSTART;TZID=Europe/Istanbul:20241116T110000
DTEND;TZID=Europe/Istanbul:20241116T150000
DTSTAMP:20260424T044704
CREATED:20260302T090444Z
LAST-MODIFIED:20260302T090444Z
UID:7016-1731754800-1731769200@harmonygastronomy.com
SUMMARY:Meksika Mutfağı-2 Quesadilla ve Taco Atölyesi (16 Kasım 2024)
DESCRIPTION:Meksika Mutfağı-2 Quesadilla ve Taco Atölyesi (16 Kasım 2024) \nEtkinlik İçeriği: Meksika mutfağı denilince akla gelen ilk yemek Taco ve Quesadilla ’dur. Bizler hafif acı\, çok lezzetli Taco’lar ve tavuklu Quesadilla  hazırlarken; eşlikçi olarak yine imza soslardan olan guacamole\, sour cream ve pico de gallo soslarını hazırlayacak ve birlikte sunumlar hazırlayacağız. Bu workshop’un işlem basamakları ve edinimleri aşağıdaki gibidir. \n\nEtli taco yapımı ve sunumu\nTavuklu Quesadilla yapımı ve sunumu\nGuacamole\, sour cream\, pico de gallo sosları yapımı\,\nSunum teknikleri.\n\nEğitim Kuralları\, Kayıt ve Ödeme Bilgileri \n\nAtölye öncesinde bilet kontrolü yapılmaktadır.\nAtölye mutfağı 12 kişiliktir. Her istasyonda 1(bir) kişi çalışacak şekilde planlanmıştır.\nAtölyeler tam donanımlı profesyonel aşçılık sınıfında gerçekleşmektedir.\nYapılan ürünler için saklama kaplarınızı getirerek yanınızda götürebilirsiniz.\nAlınan dersin iptali ve ders değişikliği yapılamamaktadır.\nHarmony Gastronomy gerekli gördüğü ya da minimum katılımcı sayısına ulaşılmadığı takdirde\, katılımcıların ödemiş olduğu etkinlik ücretini iade ederek organizasyonu iptal etmek hakkını saklı tutar.
URL:https://harmonygastronomy.com/etkinlik/meksika-mutfagi-2-quesadilla-ve-taco-atolyesi-16-kasim-2024/
LOCATION:Harmony Gastronomy\, Ataşehir Finanskent mh. Finans cd. Sarphan Finansbank sit. F Blok Ümraniye\, İstanbul\, İstanbul\, 34760\, Turkey
CATEGORIES:Workshop
ORGANIZER;CN="Harmony Gastronomy":MAILTO:info@harmonygastronomy.com
END:VEVENT
BEGIN:VEVENT
DTSTART;TZID=Europe/Istanbul:20241116T110000
DTEND;TZID=Europe/Istanbul:20241116T150000
DTSTAMP:20260424T044704
CREATED:20260302T090445Z
LAST-MODIFIED:20260302T090445Z
UID:7018-1731754800-1731769200@harmonygastronomy.com
SUMMARY:American Cookies (16 Kasım 2024)
DESCRIPTION:American Cookies (16 Kasım 2024) \nEtkinlik İçeriği : Ruth graves wakefield adında bir kadın tarafından 1938 yılında toll house ınn adlı ev yemekleri yapılan popüler bir restoranda keşfedilmiştır. Ruth nestle çikolatalarıyla bu tarifi yanlışlık sonucu keşfetmiş ve ünü git gide artmış. Çikolata parçalı kurabiye\, sadece kurabiye değildi. Amerika’da\, Büyük Buhran zamanlarında ortaya çıkan kurabiye insanlara kaybettikleri güzel günlerini hatırlatıyordu. \n\nFındık Nutella New York Cookie\nOrman Meyveli New York Cookie\nKlasik New York Cookie\n\nEğitim Kuralları\, Kayıt ve Ödeme Bilgileri \n\nAtölye öncesinde bilet kontrolü yapılmaktadır.\nAtölye mutfağı 8 kişiliktir. Her istasyonda bir ebeveyn bir çocuk çalışacak şekilde planlanmıştır.\nAtölyeler tam donanımlı profesyonel pastacılık sınıfında gerçekleşmektedir.\nYapılan ürünler için saklama kaplarınızı getirerek yanınızda götürebilirsiniz.\nAlınan dersin iptali ve ders değişikliği yapılamamaktadır.\nHarmony Gastronomy gerekli gördüğü ya da minimum katılımcı sayısına ulaşılmadığı takdirde\, katılımcıların ödemiş olduğu etkinlik ücretini iade ederek organizasyonu iptal etmek hakkını saklı tutar.
URL:https://harmonygastronomy.com/etkinlik/american-cookies-16-kasim-2024/
LOCATION:Harmony Gastronomy\, Ataşehir Finanskent mh. Finans cd. Sarphan Finansbank sit. F Blok Ümraniye\, İstanbul\, İstanbul\, 34760\, Turkey
CATEGORIES:Workshop
ATTACH;FMTTYPE=image/jpeg:https://harmonygastronomy.com/wp-content/uploads/2024/10/American-Cookies-26-Ekim-2024.jpg
ORGANIZER;CN="Harmony Gastronomy":MAILTO:info@harmonygastronomy.com
END:VEVENT
BEGIN:VEVENT
DTSTART;TZID=Europe/Istanbul:20241116T170000
DTEND;TZID=Europe/Istanbul:20241116T210000
DTSTAMP:20260424T044704
CREATED:20260302T090443Z
LAST-MODIFIED:20260302T090443Z
UID:7020-1731776400-1731790800@harmonygastronomy.com
SUMMARY:İtalyan Klasiği Ravioli El Yapımı Makarna (16 Kasım 2024)
DESCRIPTION:İtalyan Klasiği Ravioli El Yapımı Makarna (16 Kasım 2024) \nEtkinlik İçeriği : Ravioli İtalyan usulü taze makarna hamuru ile hazırlanan ve İtalyan mantısı olarak bilinen bir yemektir. Bizler eğitimimizde İtalya’ya özgü quattro formaggi dolgusu ile\, pomodorolive cream sos eşliğinde Ravioli hazırlayacağız. Bu atölyenin işlem basamakları ve edinimleri aşağıdaki gibidir. \n\nMakarna hamuru açma ve kesme teknikleri\,\nİtalyan ravioli yapımı ve teknikleri\,\nRavioli sosu yapımı ve teknikleri\,\nİleri seviye pişirme teknikleri\,\nSunum teknikleri.\n\nEğitim Kuralları\, Kayıt ve Ödeme Bilgileri \n\nAtölye öncesinde bilet kontrolü yapılmaktadır.\nAtölye mutfağı 12 kişiliktir. Her istasyonda 1 (bir) kişi çalışacak şekilde planlanmıştır.\nAtölyeler tam donanımlı profesyonel aşçılık sınıfında gerçekleşmektedir.\nYapılan ürünler için saklama kaplarınızı getirerek yanınızda götürebilirsiniz.\nAlınan dersin iptali ve ders değişikliği yapılamamaktadır.\nHarmony Gastronomy gerekli gördüğü ya da minimum katılımcı sayısına ulaşılmadığı takdirde\, katılımcıların ödemiş olduğu etkinlik ücretini iade ederek organizasyonu iptal etmek hakkını saklı tutar.
URL:https://harmonygastronomy.com/etkinlik/italyan-klasigi-ravioli-el-yapimi-makarna-16-kasim-2024/
LOCATION:Harmony Gastronomy\, Ataşehir Finanskent mh. Finans cd. Sarphan Finansbank sit. F Blok Ümraniye\, İstanbul\, İstanbul\, 34760\, Turkey
CATEGORIES:Workshop
ATTACH;FMTTYPE=image/jpeg:https://harmonygastronomy.com/wp-content/uploads/2024/10/Italyan-Klasigi-Ravioli-El-Yapimi-Makarna-18-Ekim-2024.jpg
ORGANIZER;CN="Harmony Gastronomy":MAILTO:info@harmonygastronomy.com
END:VEVENT
BEGIN:VEVENT
DTSTART;TZID=Europe/Istanbul:20241116T170000
DTEND;TZID=Europe/Istanbul:20241116T210000
DTSTAMP:20260424T044704
CREATED:20260302T090443Z
LAST-MODIFIED:20260302T090443Z
UID:7022-1731776400-1731790800@harmonygastronomy.com
SUMMARY:Cheesecake Çeşitleri Yapımı Atölyesi (16 Kasım 2024)
DESCRIPTION:Cheesecake Çeşitleri Yapımı Atölyesi (16 Kasım 2024) \nEtkinlik İçeriği : 236 yılında Yunanistan’ın Samos adasından çıkan cheesecake\, Roma İmparatorluğu vesilesiyle Avrupa’da tanındı. Böylece reçeteler de ülkeden ülkeye yayıldı ve her ülkenin kültürüne göre cheesecake tariflerinde de değişiklikler oldu. Günümüzde farklı çeşitleri ile vazgeçilmez bir yeri olan Cheesecake Çeşitleri Yapımı atölye içeriğimiz şu şekildedir. \n\nSan Sebastian Cheesecake yapımı ve teknikleri\nNo Baked Chessaceke yapımı ve teknikleri\nBaklava Cheesecake yapım ve teknikleri (Demo)\nAntep fıstığı dolgusu hazırlama (Demo)\nChessecake pişirme ve muhafaza teknikleri\n\nEğitim Kuralları\, Kayıt ve Ödeme Bilgileri \n\nAtölye öncesinde bilet kontrolü yapılmaktadır.\nAtölye mutfağı 8 kişiliktir. Her istasyonda bir ebeveyn bir çocuk çalışacak şekilde planlanmıştır.\nAtölyeler tam donanımlı profesyonel pastacılık sınıfında gerçekleşmektedir.\nYapılan ürünler için saklama kaplarınızı getirerek yanınızda götürebilirsiniz.\nAlınan dersin iptali ve ders değişikliği yapılamamaktadır.\nHarmony Gastronomy gördüğü ya da minimum katılımcı sayısına ulaşılmadığı takdirde\, katılımcıların ödemiş olduğu etkinlik ücretini iade ederek organizasyonu iptal etmek hakkını saklı tutar.
URL:https://harmonygastronomy.com/etkinlik/cheesecake-cesitleri-yapimi-atolyesi-16-kasim-2024/
LOCATION:Harmony Gastronomy\, Ataşehir Finanskent mh. Finans cd. Sarphan Finansbank sit. F Blok Ümraniye\, İstanbul\, İstanbul\, 34760\, Turkey
CATEGORIES:Workshop
ATTACH;FMTTYPE=image/jpeg:https://harmonygastronomy.com/wp-content/uploads/2024/10/Cheesecake-Cesitleri-Yapimi-Atolyesi-19-Ekim-2024.jpg
ORGANIZER;CN="Harmony Gastronomy":MAILTO:info@harmonygastronomy.com
END:VEVENT
END:VCALENDAR