BEGIN:VCALENDAR
VERSION:2.0
PRODID:-//Harmony Gastronomy Academy - ECPv6.15.20//NONSGML v1.0//EN
CALSCALE:GREGORIAN
METHOD:PUBLISH
X-WR-CALNAME:Harmony Gastronomy Academy
X-ORIGINAL-URL:https://harmonygastronomy.com
X-WR-CALDESC:Harmony Gastronomy Academy için etkinlikler
REFRESH-INTERVAL;VALUE=DURATION:PT1H
X-Robots-Tag:noindex
X-PUBLISHED-TTL:PT1H
BEGIN:VTIMEZONE
TZID:Europe/Istanbul
BEGIN:STANDARD
TZOFFSETFROM:+0300
TZOFFSETTO:+0300
TZNAME:+03
DTSTART:20230101T000000
END:STANDARD
END:VTIMEZONE
BEGIN:VEVENT
DTSTART;TZID=Europe/Istanbul:20241109T110000
DTEND;TZID=Europe/Istanbul:20241109T150000
DTSTAMP:20260424T192708
CREATED:20260302T090447Z
LAST-MODIFIED:20260302T090447Z
UID:7006-1731150000-1731164400@harmonygastronomy.com
SUMMARY:Dünya Mutfağı Uzakdoğu Sushi Atölyesi (9 Kasım 2024)
DESCRIPTION:Dünya Mutfağı Uzakdoğu Sushi Atölyesi (9 Kasım 2024) \nEtkinlik İçeriği : Sushi ilk olarak Güneydoğu Asya’da ortaya çıkmış ve 8. yüzyılda Japonya’da yaygınlaşmasından daha önce Çin’de görülmüştür. Sushi Japonc’ada artık kullanılmayan eski bir dilde “ekşi” anlamına gelir. Sushi yapmanın inceliklerini ve tarihi hakkında çeşitli bilgiler edineceğimiz Dünya Mutfağı Uzakdoğu Sushi Atölyesi (Workshop) işlem basamakları aşağıdaki gibidir: \n\nCrunch Ebi Ten Tempura Roll yapımı ve teknikleri\,\nCalifornia Roll yapımı ve teknikleri\,\nPhiladelphia Roll yapımı ve teknikleri\,\nSomon Nigiri ve Somon Maki Roll yapımı ve teknikleri (demo)\,\nEşlikçi sos ve garnitür hazırlama teknikleri\,\nSunum teknikleri.\n\nEğitim Kuralları\, Kayıt ve Ödeme Bilgileri \n\nAtölye öncesinde bilet kontrolü yapılmaktadır.\nAtölye mutfağı 12 kişiliktir. Her istasyonda 1 (bir) kişi çalışacak şekilde planlanmıştır.\nAtölyeler tam donanımlı profesyonel aşçılık sınıfında gerçekleşmektedir.\nYapılan ürünler için saklama kaplarınızı getirerek yanınızda götürebilirsiniz.\nAlınan dersin iptali ve ders değişikliği yapılamamaktadır.\nHarmony Gastronomy gerekli gördüğü ya da minimum katılımcı sayısına ulaşılmadığı takdirde\, katılımcıların ödemiş olduğu etkinlik ücretini iade ederek organizasyonu iptal etmek hakkını saklı tutar.
URL:https://harmonygastronomy.com/etkinlik/dunya-mutfagi-uzakdogu-sushi-atolyesi-9-kasim-2024/
LOCATION:Harmony Gastronomy\, Ataşehir Finanskent mh. Finans cd. Sarphan Finansbank sit. F Blok Ümraniye\, İstanbul\, İstanbul\, 34760\, Turkey
CATEGORIES:Workshop
ATTACH;FMTTYPE=image/jpeg:https://harmonygastronomy.com/wp-content/uploads/2024/10/Dunya-Mutfagi-Uzakdogu-Sushi-Atolyesi-20-Ekim-2024.jpg
ORGANIZER;CN="Harmony Gastronomy":MAILTO:info@harmonygastronomy.com
END:VEVENT
BEGIN:VEVENT
DTSTART;TZID=Europe/Istanbul:20241109T110000
DTEND;TZID=Europe/Istanbul:20241109T150000
DTSTAMP:20260424T192708
CREATED:20260302T090448Z
LAST-MODIFIED:20260302T090448Z
UID:7008-1731150000-1731164400@harmonygastronomy.com
SUMMARY:Beş Çayı -1 Tatlı ve Tuzlular Atölyesi (9 Kasım 2024)
DESCRIPTION:Beş Çayı -1 Tatlı ve Tuzlular Atölyesi (9 Kasım 2024) \nEtkinlik İçeriği: Beş çayının yanında klasikler ve vazgeçilmezlerden bazılarını sunduğumuz bu etkinliğimizin işlem ve basamakları aşağıdaki gibidir: \n\nMini sakallı yapımı\,\nMini pizza yapımı\,\nBiscotti\,\nYulaflı üzümlü ve cevizli kurabiye\,\nSunum teknikleri.\n\nEğitim Kuralları\, Kayıt ve Ödeme Bilgileri \n\nAtölye öncesinde bilet kontrolü yapılmaktadır.\nAtölye mutfağı 8 kişiliktir. Her istasyonda bir ebeveyn bir çocuk çalışacak şekilde planlanmıştır.\nAtölyeler tam donanımlı profesyonel pastacılık sınıfında gerçekleşmektedir.\nYapılan ürünler için saklama kaplarınızı getirerek yanınızda götürebilirsiniz.\nAlınan dersin iptali ve ders değişikliği yapılamamaktadır.\nHarmony Gastronomy gerekli gördüğü ya da minimum katılımcı sayısına ulaşılmadığı takdirde\, katılımcıların ödemiş olduğu etkinlik ücretini iade ederek organizasyonu iptal etmek hakkını saklı tutar.
URL:https://harmonygastronomy.com/etkinlik/bes-cayi-1-tatli-ve-tuzlular-atolyesi-9-kasim-2024/
LOCATION:Harmony Gastronomy\, Ataşehir Finanskent mh. Finans cd. Sarphan Finansbank sit. F Blok Ümraniye\, İstanbul\, İstanbul\, 34760\, Turkey
CATEGORIES:Workshop
ATTACH;FMTTYPE=image/jpeg:https://harmonygastronomy.com/wp-content/uploads/2024/10/Bes-Cayi-1-Tatli-ve-Tuzlular-Atolyesi-27-Ekim-2024.jpg
ORGANIZER;CN="Harmony Gastronomy":MAILTO:info@harmonygastronomy.com
END:VEVENT
BEGIN:VEVENT
DTSTART;TZID=Europe/Istanbul:20241109T170000
DTEND;TZID=Europe/Istanbul:20241109T210000
DTSTAMP:20260424T192708
CREATED:20260302T090447Z
LAST-MODIFIED:20260302T090447Z
UID:7010-1731171600-1731186000@harmonygastronomy.com
SUMMARY:Mezeler Atölyesi (9 Kasım 2024)
DESCRIPTION:Mezeler Atölyesi (9 Kasım 2024) \nEtkinlik İçeriği: Zeytinyağı ilk olarak Giritliler tarafından üretilmiştir. Zeytinyağını üreten Giritliler\, ilk zeytinyağlı mezeyi de üretmişlerdir. Dilerseniz davetlerinizde\, dilerseniz günlük yaşantınızda severek tüketeceğiniz ve sofralarınızdan eksik olmasını istemeyeceğiniz mezeleri sizlere getirdik. Meze Atölyemizin işlem basamakları ve edinimleri aşağıdaki gibidir: \n\nGirit ezmesi yapımı ve teknikleri\,\nKöz patlıcan sicilyano yapımı ve teknikleri\,\nErmeni usulü bombay pilaki yapımı ve teknikleri\,\nAtom yapımı ve teknikleri\,\nİleri seviye pişirme ve sunum teknikleri\,\n\nEğitim Kuralları\, Kayıt ve Ödeme Bilgileri \n\nAtölye öncesinde bilet kontrolü yapılmaktadır.\nAtölye mutfağı 12 kişiliktir. Her istasyonda 1 (bir) kişi çalışacak şekilde planlanmıştır.\nAtölyeler tam donanımlı profesyonel aşçılık sınıfında gerçekleşmektedir.\nYapılan ürünler için saklama kaplarınızı getirerek yanınızda götürebilirsiniz.\nAlınan dersin iptali ve ders değişikliği yapılamamaktadır.\nHarmony Gastronomy gerekli gördüğü ya da minimum katılımcı sayısına ulaşılmadığı takdirde\, katılımcıların ödemiş olduğu etkinlik ücretini iade ederek organizasyonu iptal etmek hakkını saklı tutar.
URL:https://harmonygastronomy.com/etkinlik/mezeler-atolyesi-9-kasim-2024/
LOCATION:Harmony Gastronomy\, Ataşehir Finanskent mh. Finans cd. Sarphan Finansbank sit. F Blok Ümraniye\, İstanbul\, İstanbul\, 34760\, Turkey
CATEGORIES:Workshop
ATTACH;FMTTYPE=image/jpeg:https://harmonygastronomy.com/wp-content/uploads/2024/10/Mezeler-Atolyesi-27-Ekim-2024.jpg
ORGANIZER;CN="Harmony Gastronomy":MAILTO:info@harmonygastronomy.com
END:VEVENT
END:VCALENDAR