BEGIN:VCALENDAR
VERSION:2.0
PRODID:-//Harmony Gastronomy Academy - ECPv6.15.20//NONSGML v1.0//EN
CALSCALE:GREGORIAN
METHOD:PUBLISH
X-WR-CALNAME:Harmony Gastronomy Academy
X-ORIGINAL-URL:https://harmonygastronomy.com
X-WR-CALDESC:Harmony Gastronomy Academy için etkinlikler
REFRESH-INTERVAL;VALUE=DURATION:PT1H
X-Robots-Tag:noindex
X-PUBLISHED-TTL:PT1H
BEGIN:VTIMEZONE
TZID:Europe/Istanbul
BEGIN:STANDARD
TZOFFSETFROM:+0300
TZOFFSETTO:+0300
TZNAME:+03
DTSTART:20230101T000000
END:STANDARD
END:VTIMEZONE
BEGIN:VEVENT
DTSTART;TZID=Europe/Istanbul:20241026T110000
DTEND;TZID=Europe/Istanbul:20241026T150000
DTSTAMP:20260425T194716
CREATED:20260302T090453Z
LAST-MODIFIED:20260302T090453Z
UID:5841-1729940400-1729954800@harmonygastronomy.com
SUMMARY:Yöresel Lezzetler Gaziantep Mutfağı Atölyesi-1 26 Ekim 2024
DESCRIPTION:Yöresel Lezzetler Gaziantep Mutfağı Atölyesi-1 26 Ekim 2024 \nEtkinlik İçeriği \n\nAli Nazik Kebabı hazırlama ve teknikleri\,\nZırh kıyması yapımı ve teknikleri\,\nLahmacun hamuru yapımı ve teknikleri\,\nLahmacun harcı hazırlama ve teknikleri\,\nİleri seviye pişirme teknikleri\,\nSunum teknikleri.\n\nEğitim Kuralları\, Kayıt ve Ödeme Bilgileri \n\n\n\nAtölye mutfağında pastacılık sınıfı 8\, aşçılık sınıfı 12 kişiliktir. Her istasyonda 1 (bir) kişi çalışacak şekilde planlanmıştır.\nEğitimler tam donanımlı profesyonel aşçılık sınıfında gerçekleşmektedir.\nYapılan ürünleri götürmek için saklama kaplarınızı yanınızda getirebilirsiniz.\nAlınan dersin iptali veya ders değişikliği yapılamamaktadır.\nGlobal Harmony gerekli gördüğü ya da minimum katılımcı sayısına ulaşılmadığı takdirde\, katılımcıların ödemiş olduğu etkinlik ücretini iade ederek organizasyonu iptal etme hakkını saklı tutar.\nSınırlı sayıda katılımcı alındığı için eğitim ücreti ödendikten hemen sonra dekontla birlikte iletişime geçilmesi ve kaydın yaptırılması gereklidir.\nÖdeme yaparken açıklama kısmına “Katılımcının Adı\, Soyadı\, Eğitim Tarihi\, Eğitim Adı’nın yazılması önemlidir.
URL:https://harmonygastronomy.com/etkinlik/yoresel-lezzetler-gaziantep-mutfagi-atolyesi-1-26-ekim-2024/
LOCATION:Harmony Gastronomy\, Ataşehir Finanskent mh. Finans cd. Sarphan Finansbank sit. F Blok Ümraniye\, İstanbul\, İstanbul\, 34760\, Turkey
CATEGORIES:Workshop
ATTACH;FMTTYPE=image/jpeg:https://harmonygastronomy.com/wp-content/uploads/2024/10/Yoresel-Lezzetler-Gaziantep-Mutfagi-Atolyesi-1-26-Ekim-2024.jpg
ORGANIZER;CN="Harmony Gastronomy":MAILTO:info@harmonygastronomy.com
END:VEVENT
BEGIN:VEVENT
DTSTART;TZID=Europe/Istanbul:20241026T110000
DTEND;TZID=Europe/Istanbul:20241026T150000
DTSTAMP:20260425T194716
CREATED:20260302T090453Z
LAST-MODIFIED:20260302T090453Z
UID:5844-1729940400-1729954800@harmonygastronomy.com
SUMMARY:Artizan Çikolata Atölyesi 26 Ekim 2024
DESCRIPTION:Artizan Çikolata Atölyesi 26 Ekim 2024 \nEtkinlik İçeriği \n\nÇikolata yapım ve teknikleri\,\nÇikolata temperleme tekniği ve çeşitleri\,\nÇikolata kalıplama ve çeşitlendirme teknikleri\,\nBütün fındıklı kalıp çikolata hazırlama\,\nBeyaz çikolata dolgusu hazırlama\,\nDolgulu çikolata yapım ve teknikleri.\n\nEğitim Kuralları\, Kayıt ve Ödeme Bilgileri \n\nAtölye mutfağında pastacılık sınıfı 8\, aşçılık sınıfı 12 kişiliktir. Her istasyonda 1 (bir) kişi çalışacak şekilde planlanmıştır.\nEğitimler tam donanımlı profesyonel aşçılık sınıfında gerçekleşmektedir.\nYapılan ürünleri götürmek için saklama kaplarınızı yanınızda getirebilirsiniz.\nAlınan dersin iptali veya ders değişikliği yapılamamaktadır.\nGlobal Harmony gerekli gördüğü ya da minimum katılımcı sayısına ulaşılmadığı takdirde\, katılımcıların ödemiş olduğu etkinlik ücretini iade ederek organizasyonu iptal etme hakkını saklı tutar.\nSınırlı sayıda katılımcı alındığı için eğitim ücreti ödendikten hemen sonra dekontla birlikte iletişime geçilmesi ve kaydın yaptırılması gereklidir.\nÖdeme yaparken açıklama kısmına “Katılımcının Adı\, Soyadı\, Eğitim Tarihi\, Eğitim Adı’nın yazılması önemlidir.
URL:https://harmonygastronomy.com/etkinlik/artizan-cikolata-atolyesi-26-ekim-2024/
LOCATION:Harmony Gastronomy\, Ataşehir Finanskent mh. Finans cd. Sarphan Finansbank sit. F Blok Ümraniye\, İstanbul\, İstanbul\, 34760\, Turkey
CATEGORIES:Workshop
ATTACH;FMTTYPE=image/jpeg:https://harmonygastronomy.com/wp-content/uploads/2024/10/Artizan-Cikolata-Atolyesi-26-Ekim-2024.jpg
ORGANIZER;CN="Harmony Gastronomy":MAILTO:info@harmonygastronomy.com
END:VEVENT
BEGIN:VEVENT
DTSTART;TZID=Europe/Istanbul:20241026T170000
DTEND;TZID=Europe/Istanbul:20241026T210000
DTSTAMP:20260425T194716
CREATED:20260302T090452Z
LAST-MODIFIED:20260302T090452Z
UID:5847-1729962000-1729976400@harmonygastronomy.com
SUMMARY:American Cookies 26 Ekim 2024
DESCRIPTION:American Cookies 26 Ekim 2024 \nEtkinlik İçeriği \nRuth graves wakefield adında bir kadın tarafından 1938 yılında toll house ınn adlı ev yemekleri yapılan popüler bir restoranda keşfedilmiştır. Ruth nestle çikolatalarıyla bu tarifi yanlışlık sonucu keşfetmiş ve ünü git gide artmış. Çikolata parçalı kurabiye\, sadece kurabiye değildi. Amerika’da\, Büyük Buhran zamanlarında ortaya çıkan kurabiye insanlara kaybettikleri güzel günlerini hatırlatıyordu. \n\nFındık Nutella New York Cookie\nOrman Meyveli New York Cookie\nKlasik New York Cookie\n\nEğitim Kuralları\, Kayıt ve Ödeme Bilgileri \n\nAtölye mutfağında pastacılık sınıfı 8\, aşçılık sınıfı 12 kişiliktir. Her istasyonda 1 (bir) kişi çalışacak şekilde planlanmıştır.\nEğitimler tam donanımlı profesyonel aşçılık sınıfında gerçekleşmektedir.\nYapılan ürünleri götürmek için saklama kaplarınızı yanınızda getirebilirsiniz.\nAlınan dersin iptali veya ders değişikliği yapılamamaktadır.\nGlobal Harmony gerekli gördüğü ya da minimum katılımcı sayısına ulaşılmadığı takdirde\, katılımcıların ödemiş olduğu etkinlik ücretini iade ederek organizasyonu iptal etme hakkını saklı tutar.\nSınırlı sayıda katılımcı alındığı için eğitim ücreti ödendikten hemen sonra dekontla birlikte iletişime geçilmesi ve kaydın yaptırılması gereklidir.\nÖdeme yaparken açıklama kısmına “Katılımcının Adı\, Soyadı\, Eğitim Tarihi\, Eğitim Adı’nın yazılması önemlidir.
URL:https://harmonygastronomy.com/etkinlik/american-cookies-26-ekim-2024/
LOCATION:Harmony Gastronomy\, Ataşehir Finanskent mh. Finans cd. Sarphan Finansbank sit. F Blok Ümraniye\, İstanbul\, İstanbul\, 34760\, Turkey
CATEGORIES:Workshop
ATTACH;FMTTYPE=image/jpeg:https://harmonygastronomy.com/wp-content/uploads/2024/10/American-Cookies-26-Ekim-2024.jpg
ORGANIZER;CN="Harmony Gastronomy":MAILTO:info@harmonygastronomy.com
END:VEVENT
BEGIN:VEVENT
DTSTART;TZID=Europe/Istanbul:20241026T180000
DTEND;TZID=Europe/Istanbul:20241026T220000
DTSTAMP:20260425T194716
CREATED:20260302T090452Z
LAST-MODIFIED:20260302T090452Z
UID:5850-1729965600-1729980000@harmonygastronomy.com
SUMMARY:Klasik İtalyan Mutfağı El Yapımı Makarna Atölyesi 26 Ekim 2024
DESCRIPTION:Klasik İtalyan Mutfağı El Yapımı Makarna Atölyesi 26 Ekim 2024 \nEtkinlik İçeriği \n\nEv yapımı makarna yapımı ve teknikleri\,\nKurutulmuş domates ve karidesli Tagliatelle\,\nİleri seviye pişirme teknikleri\,\nTiramisu (ikram)\,\nSunum teknikleri.\n\nEğitim Kuralları\, Kayıt ve Ödeme Bilgileri \n\nAtölye mutfağında pastacılık sınıfı 8\, aşçılık sınıfı 12 kişiliktir. Her istasyonda\n1 (bir) kişi çalışacak şekilde planlanmıştır.\nEğitimler tam donanımlı profesyonel aşçılık sınıfında gerçekleşmektedir.\nYapılan ürünleri götürmek için saklama kaplarınızı yanınızda getirebilirsiniz.\nAlınan dersin iptali veya ders değişikliği yapılamamaktadır.\nGlobal Harmony gerekli gördüğü ya da minimum katılımcı sayısına ulaşılmadığı takdirde\, katılımcıların ödemiş olduğu etkinlik ücretini iade ederek organizasyonu iptal etme hakkını saklı tutar.\nSınırlı sayıda katılımcı alındığı için eğitim ücreti ödendikten hemen sonra dekontla birlikte iletişime geçilmesi ve kaydın yaptırılması gereklidir.\nÖdeme yaparken açıklama kısmına “Katılımcının Adı\, Soyadı\, Eğitim Tarihi\, Eğitim Adı’nın yazılması önemlidir.
URL:https://harmonygastronomy.com/etkinlik/klasik-italyan-mutfagi-el-yapimi-makarna-atolyesi-26-ekim-2024/
LOCATION:Harmony Gastronomy\, Ataşehir Finanskent mh. Finans cd. Sarphan Finansbank sit. F Blok Ümraniye\, İstanbul\, İstanbul\, 34760\, Turkey
CATEGORIES:Workshop
ATTACH;FMTTYPE=image/jpeg:https://harmonygastronomy.com/wp-content/uploads/2024/10/Klasik-Italyan-Mutfagi-El-Yapimi-Makarna-26-Ekim-2024.jpg
ORGANIZER;CN="Harmony Gastronomy":MAILTO:info@harmonygastronomy.com
END:VEVENT
END:VCALENDAR